Workbook

Sheet ★交付請求額の計算
A2: 福岡県水素グリーン成長戦略会議 令和8年度福岡県FC商用車の運行に係る水素燃料代補助金 水素充填実績報告
C5: 水素燃料代実績 （税込） | D5: 充填量実績
B6: R8.4 | C6: ='R8年4月'!F37 -> 0 | D6: ='R8年4月'!E37 -> 0
B7: R8.5 | C7: ='R8年5月'!F38 -> 0 | D7: ='R8年5月'!E38 -> 0
B8: R8.6 | C8: ='R8年6月'!F37 -> 0 | D8: ='R8年6月'!E37 -> 0
B9: R8.7 | C9: ='R8年7月'!F38 -> 0 | D9: ='R8年7月'!E38 -> 0
B10: R8.8 | C10: ='R8年8月'!F38 -> 0 | D10: ='R8年8月'!E38 -> 0
B11: R8.9 | C11: ='R8年9月'!F37 -> 0 | D11: ='R8年9月'!E37 -> 0
B12: R8.10 | C12: ='R8年10月'!F38 -> 0 | D12: ='R8年10月'!E38 -> 0
B13: R8.11 | C13: ='R8年11月'!F37 -> 0 | D13: ='R8年11月'!E37 -> 0
B14: R8.12 | C14: ='R8年12月'!F38 -> 0 | D14: ='R8年12月'!E38 -> 0
B15: R9.1 | C15: ='R9年1月'!F38 -> 0 | D15: ='R9年1月'!E38 -> 0
B16: R9.2 | C16: ='R9年2月'!F35 -> 0 | D16: ='R9年2月'!E35 -> 0
B17: R9.3 | C17: ='R9年3月'!F38 -> 0 | D17: ='R9年3月'!E38 -> 0
B18: 年間合計 | C18: =SUM(C6:C17) -> 0 | D18: =SUM(D6:D17) -> 0
C19: =A | D19: =B
B21: 交付請求額＝｛A-（B×638）｝÷1.1
C22: =" ＝｛"&TEXT($C$18,"#,##")&"-（"&TEXT($D$18,"#,##.00")&"×638）｝÷1.1" -> ＝｛-（.00×638）｝÷1.1
E23: = | F23: =ROUNDDOWN(($C$18-($D$18*638))/1.1,0) -> 0

Sheet 作成例
A2: 作成例
A3: 充填日 | B3: 充填時間 | C3: ST名 | D3: 水素価格/kg(税込)(a) | E3: 充填量(b) | F3: 水素燃料代(a×b)
A4: 記入例 | B4: 0.64583333 | C4: ●●水素ステーション | D4: ●●●●円 | E4: 5.5 | F4: ●●●●円
A5: 45748 | F5: =IF(COUNTIF(C5,"*ENEOS*")=1,ROUNDDOWN(D5*E5,0),ROUND(D5*E5,0)) -> 0
A6: 45749 | F6: =IF(COUNTIF(C6,"*ENEOS*")=1,ROUNDDOWN(D6*E6,0),ROUND(D6*E6,0)) -> 0
A7: 45750 | B7: 0.60555556 | C7: ENEOS太宰府 | D7: 2200 | E7: 5.17 | F7: =IF(COUNTIF(C7,"*ENEOS*")=1,ROUNDDOWN(D7*E7,0),ROUND(D7*E7,0)) -> 11374
A8: 45751 | F8: =IF(COUNTIF(C8,"*ENEOS*")=1,ROUNDDOWN(D8*E8,0),ROUND(D8*E8,0)) -> 0
A9: 45752 | F9: =IF(COUNTIF(C9,"*ENEOS*")=1,ROUNDDOWN(D9*E9,0),ROUND(D9*E9,0)) -> 0
A10: 45753 | F10: =IF(COUNTIF(C10,"*ENEOS*")=1,ROUNDDOWN(D10*E10,0),ROUND(D10*E10,0)) -> 0
A11: 45754 | F11: =IF(COUNTIF(C11,"*ENEOS*")=1,ROUNDDOWN(D11*E11,0),ROUND(D11*E11,0)) -> 0
A12: 45755 | B12: 0.42013889 | C12: 福岡市 | D12: 1210 | E12: 6.02 | F12: =IF(COUNTIF(C12,"*ENEOS*")=1,ROUNDDOWN(D12*E12,0),ROUND(D12*E12,0)) -> 7284
A13: 45756 | F13: =IF(COUNTIF(C13,"*ENEOS*")=1,ROUNDDOWN(D13*E13,0),ROUND(D13*E13,0)) -> 0
A14: 45757 | F14: =IF(COUNTIF(C14,"*ENEOS*")=1,ROUNDDOWN(D14*E14,0),ROUND(D14*E14,0)) -> 0
A15: 45758 | F15: =IF(COUNTIF(C15,"*ENEOS*")=1,ROUNDDOWN(D15*E15,0),ROUND(D15*E15,0)) -> 0
A16: 45759 | F16: =IF(COUNTIF(C16,"*ENEOS*")=1,ROUNDDOWN(D16*E16,0),ROUND(D16*E16,0)) -> 0
A17: 45760 | F17: =IF(COUNTIF(C17,"*ENEOS*")=1,ROUNDDOWN(D17*E17,0),ROUND(D17*E17,0)) -> 0
A18: 45761 | B18: 0.41527778 | C18: 福岡市 | D18: 1210 | E18: 5.62 | F18: =IF(COUNTIF(C18,"*ENEOS*")=1,ROUNDDOWN(D18*E18,0),ROUND(D18*E18,0)) -> 6800
A19: 45762 | B19: 0.69930556 | C19: 福岡市 | D19: 1210 | E19: 4.07 | F19: =IF(COUNTIF(C19,"*ENEOS*")=1,ROUNDDOWN(D19*E19,0),ROUND(D19*E19,0)) -> 4925
A20: 45763 | F20: =IF(COUNTIF(C20,"*ENEOS*")=1,ROUNDDOWN(D20*E20,0),ROUND(D20*E20,0)) -> 0
A21: 45764 | F21: =IF(COUNTIF(C21,"*ENEOS*")=1,ROUNDDOWN(D21*E21,0),ROUND(D21*E21,0)) -> 0
A22: 45765 | F22: =IF(COUNTIF(C22,"*ENEOS*")=1,ROUNDDOWN(D22*E22,0),ROUND(D22*E22,0)) -> 0
A23: 45766 | F23: =IF(COUNTIF(C23,"*ENEOS*")=1,ROUNDDOWN(D23*E23,0),ROUND(D23*E23,0)) -> 0
A24: 45767 | F24: =IF(COUNTIF(C24,"*ENEOS*")=1,ROUNDDOWN(D24*E24,0),ROUND(D24*E24,0)) -> 0
A25: 45768 | F25: =IF(COUNTIF(C25,"*ENEOS*")=1,ROUNDDOWN(D25*E25,0),ROUND(D25*E25,0)) -> 0
A26: 45769 | F26: =IF(COUNTIF(C26,"*ENEOS*")=1,ROUNDDOWN(D26*E26,0),ROUND(D26*E26,0)) -> 0
A27: 45770 | F27: =IF(COUNTIF(C27,"*ENEOS*")=1,ROUNDDOWN(D27*E27,0),ROUND(D27*E27,0)) -> 0
A28: 45771 | F28: =IF(COUNTIF(C28,"*ENEOS*")=1,ROUNDDOWN(D28*E28,0),ROUND(D28*E28,0)) -> 0
A29: 45772 | B29: 0.50208333 | C29: ENEOS太宰府 | D29: 2200 | E29: 5.21 | F29: =IF(COUNTIF(C29,"*ENEOS*")=1,ROUNDDOWN(D29*E29,0),ROUND(D29*E29,0)) -> 11462
A30: 45773 | F30: =IF(COUNTIF(C30,"*ENEOS*")=1,ROUNDDOWN(D30*E30,0),ROUND(D30*E30,0)) -> 0
A31: 45774 | F31: =IF(COUNTIF(C31,"*ENEOS*")=1,ROUNDDOWN(D31*E31,0),ROUND(D31*E31,0)) -> 0
A32: 45775 | F32: =IF(COUNTIF(C32,"*ENEOS*")=1,ROUNDDOWN(D32*E32,0),ROUND(D32*E32,0)) -> 0
A33: 45776 | F33: =IF(COUNTIF(C33,"*ENEOS*")=1,ROUNDDOWN(D33*E33,0),ROUND(D33*E33,0)) -> 0
A34: 45777 | F34: =IF(COUNTIF(C34,"*ENEOS*")=1,ROUNDDOWN(D34*E34,0),ROUND(D34*E34,0)) -> 0
D36: 4月合計 | E36: 充填量 | F36: 水素燃料代
E37: =SUM(E5:E34) -> 26.09 | F37: =SUM(F5:F34) -> 41845
G39: ENEOS伊都
G40: ENEOS太宰府
G41: ENEOS古賀
G42: 福岡市
G43: 宮田
...

Sheet R8年4月
A2: 令和8年4月
A3: 充填日 | B3: 充填時間 | C3: ST名 | D3: 水素価格/kg(税込)(a) | E3: 充填量(b) | F3: 水素燃料代(a×b)
A4: 記入例 | B4: 0.64583333 | C4: ●●水素ステーション | D4: ●●●●円 | E4: 5.5 | F4: ●●●●円
A5: 45748 | F5: =IF(COUNTIF(C5,"*ENEOS*")=1,ROUNDDOWN(D5*E5,0),ROUND(D5*E5,0)) -> 0
A6: 45749 | F6: =IF(COUNTIF(C6,"*ENEOS*")=1,ROUNDDOWN(D6*E6,0),ROUND(D6*E6,0)) -> 0
A7: 45750 | F7: =IF(COUNTIF(C7,"*ENEOS*")=1,ROUNDDOWN(D7*E7,0),ROUND(D7*E7,0)) -> 0
A8: 45751 | F8: =IF(COUNTIF(C8,"*ENEOS*")=1,ROUNDDOWN(D8*E8,0),ROUND(D8*E8,0)) -> 0
A9: 45752 | F9: =IF(COUNTIF(C9,"*ENEOS*")=1,ROUNDDOWN(D9*E9,0),ROUND(D9*E9,0)) -> 0
A10: 45753 | F10: =IF(COUNTIF(C10,"*ENEOS*")=1,ROUNDDOWN(D10*E10,0),ROUND(D10*E10,0)) -> 0
A11: 45754 | F11: =IF(COUNTIF(C11,"*ENEOS*")=1,ROUNDDOWN(D11*E11,0),ROUND(D11*E11,0)) -> 0
A12: 45755 | F12: =IF(COUNTIF(C12,"*ENEOS*")=1,ROUNDDOWN(D12*E12,0),ROUND(D12*E12,0)) -> 0
A13: 45756 | F13: =IF(COUNTIF(C13,"*ENEOS*")=1,ROUNDDOWN(D13*E13,0),ROUND(D13*E13,0)) -> 0
A14: 45757 | F14: =IF(COUNTIF(C14,"*ENEOS*")=1,ROUNDDOWN(D14*E14,0),ROUND(D14*E14,0)) -> 0
A15: 45758 | F15: =IF(COUNTIF(C15,"*ENEOS*")=1,ROUNDDOWN(D15*E15,0),ROUND(D15*E15,0)) -> 0
A16: 45759 | F16: =IF(COUNTIF(C16,"*ENEOS*")=1,ROUNDDOWN(D16*E16,0),ROUND(D16*E16,0)) -> 0
... A34: 45777 | F34: =IF(COUNTIF(C34,"*ENEOS*")=1,ROUNDDOWN(D34*E34,0),ROUND(D34*E34,0)) -> 0
D36: 4月合計 | E36: 充填量 | F36: 水素燃料代
E37: =SUM(E5:E34) -> 0 | F37: =SUM(F5:F34) -> 0
G40: ENEOS太宰府
G41: ENEOS古賀
G42: ENEOS空港
G43: 福岡市
G44: 宮田
G45: 久留米

Sheet R8年5月
A2: 令和8年5月
A3: 充填日 | B3: 充填時間 | C3: ST名 | D3: 水素価格/kg(税込)(a) | E3: 充填量(b) | F3: 水素燃料代(a×b)
A4: 記入例 | B4: 0.64583333 | C4: ●●水素ステーション | D4: ●●●●円 | E4: 5.5 | F4: ●●●●円
A5: 45778 | F5: =IF(COUNTIF(C5,"*ENEOS*")=1,ROUNDDOWN(D5*E5,0),ROUND(D5*E5,0)) -> 0
A6: 45779 | F6: =IF(COUNTIF(C6,"*ENEOS*")=1,ROUNDDOWN(D6*E6,0),ROUND(D6*E6,0)) -> 0
A7: 45780 | F7: =IF(COUNTIF(C7,"*ENEOS*")=1,ROUNDDOWN(D7*E7,0),ROUND(D7*E7,0)) -> 0
A8: 45781 | F8: =IF(COUNTIF(C8,"*ENEOS*")=1,ROUNDDOWN(D8*E8,0),ROUND(D8*E8,0)) -> 0
A9: 45782 | F9: =IF(COUNTIF(C9,"*ENEOS*")=1,ROUNDDOWN(D9*E9,0),ROUND(D9*E9,0)) -> 0
A10: 45783 | F10: =IF(COUNTIF(C10,"*ENEOS*")=1,ROUNDDOWN(D10*E10,0),ROUND(D10*E10,0)) -> 0
A11: 45784 | F11: =IF(COUNTIF(C11,"*ENEOS*")=1,ROUNDDOWN(D11*E11,0),ROUND(D11*E11,0)) -> 0
A12: 45785 | F12: =IF(COUNTIF(C12,"*ENEOS*")=1,ROUNDDOWN(D12*E12,0),ROUND(D12*E12,0)) -> 0
A13: 45786 | F13: =IF(COUNTIF(C13,"*ENEOS*")=1,ROUNDDOWN(D13*E13,0),ROUND(D13*E13,0)) -> 0
A14: 45787 | F14: =IF(COUNTIF(C14,"*ENEOS*")=1,ROUNDDOWN(D14*E14,0),ROUND(D14*E14,0)) -> 0
A15: 45788 | F15: =IF(COUNTIF(C15,"*ENEOS*")=1,ROUNDDOWN(D15*E15,0),ROUND(D15*E15,0)) -> 0
A16: 45789 | F16: =IF(COUNTIF(C16,"*ENEOS*")=1,ROUNDDOWN(D16*E16,0),ROUND(D16*E16,0)) -> 0
... A35: 45808 | F35: =IF(COUNTIF(C35,"*ENEOS*")=1,ROUNDDOWN(D35*E35,0),ROUND(D35*E35,0)) -> 0
D37: 5月合計 | E37: 充填量 | F37: 水素燃料代
E38: =SUM(E5:E35) -> 0 | F38: =SUM(F5:F35) -> 0
G41: ENEOS太宰府
G42: ENEOS古賀
G43: ENEOS空港
G44: 福岡市
G45: 宮田
G46: 久留米

Sheet R8年6月
A2: 令和8年6月
A3: 充填日 | B3: 充填時間 | C3: ST名 | D3: 水素価格/kg(税込)(a) | E3: 充填量(b) | F3: 水素燃料代(a×b)
A4: 記入例 | B4: 0.64583333 | C4: ●●水素ステーション | D4: ●●●●円 | E4: 5.5 | F4: ●●●●円
A5: 45809 | F5: =IF(COUNTIF(C5,"*ENEOS*")=1,ROUNDDOWN(D5*E5,0),ROUND(D5*E5,0)) -> 0
A6: 45810 | F6: =IF(COUNTIF(C6,"*ENEOS*")=1,ROUNDDOWN(D6*E6,0),ROUND(D6*E6,0)) -> 0
A7: 45811 | F7: =IF(COUNTIF(C7,"*ENEOS*")=1,ROUNDDOWN(D7*E7,0),ROUND(D7*E7,0)) -> 0
A8: 45812 | F8: =IF(COUNTIF(C8,"*ENEOS*")=1,ROUNDDOWN(D8*E8,0),ROUND(D8*E8,0)) -> 0
A9: 45813 | F9: =IF(COUNTIF(C9,"*ENEOS*")=1,ROUNDDOWN(D9*E9,0),ROUND(D9*E9,0)) -> 0
A10: 45814 | F10: =IF(COUNTIF(C10,"*ENEOS*")=1,ROUNDDOWN(D10*E10,0),ROUND(D10*E10,0)) -> 0
A11: 45815 | F11: =IF(COUNTIF(C11,"*ENEOS*")=1,ROUNDDOWN(D11*E11,0),ROUND(D11*E11,0)) -> 0
A12: 45816 | F12: =IF(COUNTIF(C12,"*ENEOS*")=1,ROUNDDOWN(D12*E12,0),ROUND(D12*E12,0)) -> 0
A13: 45817 | F13: =IF(COUNTIF(C13,"*ENEOS*")=1,ROUNDDOWN(D13*E13,0),ROUND(D13*E13,0)) -> 0
A14: 45818 | F14: =IF(COUNTIF(C14,"*ENEOS*")=1,ROUNDDOWN(D14*E14,0),ROUND(D14*E14,0)) -> 0
A15: 45819 | F15: =IF(COUNTIF(C15,"*ENEOS*")=1,ROUNDDOWN(D15*E15,0),ROUND(D15*E15,0)) -> 0
A16: 45820 | F16: =IF(COUNTIF(C16,"*ENEOS*")=1,ROUNDDOWN(D16*E16,0),ROUND(D16*E16,0)) -> 0
... A34: 45838 | F34: =IF(COUNTIF(C34,"*ENEOS*")=1,ROUNDDOWN(D34*E34,0),ROUND(D34*E34,0)) -> 0
D36: 6月合計 | E36: 充填量 | F36: 水素燃料代
E37: =SUM(E5:E34) -> 0 | F37: =SUM(F5:F34) -> 0
G40: ENEOS太宰府
G41: ENEOS古賀
G42: ENEOS空港
G43: 福岡市
G44: 宮田
G45: 久留米

Sheet R8年7月
A2: 令和8年7月
A3: 充填日 | B3: 充填時間 | C3: ST名 | D3: 水素価格/kg(税込)(a) | E3: 充填量(b) | F3: 水素燃料代(a×b)
A4: 記入例 | B4: 0.64583333 | C4: ●●水素ステーション | D4: ●●●●円 | E4: 5.5 | F4: ●●●●円
A5: 45839 | F5: =IF(COUNTIF(C5,"*ENEOS*")=1,ROUNDDOWN(D5*E5,0),ROUND(D5*E5,0)) -> 0
A6: 45840 | F6: =IF(COUNTIF(C6,"*ENEOS*")=1,ROUNDDOWN(D6*E6,0),ROUND(D6*E6,0)) -> 0
A7: 45841 | F7: =IF(COUNTIF(C7,"*ENEOS*")=1,ROUNDDOWN(D7*E7,0),ROUND(D7*E7,0)) -> 0
A8: 45842 | F8: =IF(COUNTIF(C8,"*ENEOS*")=1,ROUNDDOWN(D8*E8,0),ROUND(D8*E8,0)) -> 0
A9: 45843 | F9: =IF(COUNTIF(C9,"*ENEOS*")=1,ROUNDDOWN(D9*E9,0),ROUND(D9*E9,0)) -> 0
A10: 45844 | F10: =IF(COUNTIF(C10,"*ENEOS*")=1,ROUNDDOWN(D10*E10,0),ROUND(D10*E10,0)) -> 0
A11: 45845 | F11: =IF(COUNTIF(C11,"*ENEOS*")=1,ROUNDDOWN(D11*E11,0),ROUND(D11*E11,0)) -> 0
A12: 45846 | F12: =IF(COUNTIF(C12,"*ENEOS*")=1,ROUNDDOWN(D12*E12,0),ROUND(D12*E12,0)) -> 0
A13: 45847 | F13: =IF(COUNTIF(C13,"*ENEOS*")=1,ROUNDDOWN(D13*E13,0),ROUND(D13*E13,0)) -> 0
A14: 45848 | F14: =IF(COUNTIF(C14,"*ENEOS*")=1,ROUNDDOWN(D14*E14,0),ROUND(D14*E14,0)) -> 0
A15: 45849 | F15: =IF(COUNTIF(C15,"*ENEOS*")=1,ROUNDDOWN(D15*E15,0),ROUND(D15*E15,0)) -> 0
A16: 45850 | F16: =IF(COUNTIF(C16,"*ENEOS*")=1,ROUNDDOWN(D16*E16,0),ROUND(D16*E16,0)) -> 0
... A35: 45869 | F35: =IF(COUNTIF(C35,"*ENEOS*")=1,ROUNDDOWN(D35*E35,0),ROUND(D35*E35,0)) -> 0
D37: 7月合計 | E37: 充填量 | F37: 水素燃料代
E38: =SUM(E5:E35) -> 0 | F38: =SUM(F5:F35) -> 0
G41: ENEOS太宰府
G42: ENEOS古賀
G43: ENEOS空港
G44: 福岡市
G45: 宮田
G46: 久留米

Sheet R8年8月
A2: 令和8年8月
A3: 充填日 | B3: 充填時間 | C3: ST名 | D3: 水素価格/kg(税込)(a) | E3: 充填量(b) | F3: 水素燃料代(a×b)
A4: 記入例 | B4: 0.64583333 | C4: ●●水素ステーション | D4: ●●●●円 | E4: 5.5 | F4: ●●●●円
A5: 45870 | F5: =IF(COUNTIF(C5,"*ENEOS*")=1,ROUNDDOWN(D5*E5,0),ROUND(D5*E5,0)) -> 0
A6: 45871 | F6: =IF(COUNTIF(C6,"*ENEOS*")=1,ROUNDDOWN(D6*E6,0),ROUND(D6*E6,0)) -> 0
A7: 45872 | F7: =IF(COUNTIF(C7,"*ENEOS*")=1,ROUNDDOWN(D7*E7,0),ROUND(D7*E7,0)) -> 0
A8: 45873 | F8: =IF(COUNTIF(C8,"*ENEOS*")=1,ROUNDDOWN(D8*E8,0),ROUND(D8*E8,0)) -> 0
A9: 45874 | F9: =IF(COUNTIF(C9,"*ENEOS*")=1,ROUNDDOWN(D9*E9,0),ROUND(D9*E9,0)) -> 0
A10: 45875 | F10: =IF(COUNTIF(C10,"*ENEOS*")=1,ROUNDDOWN(D10*E10,0),ROUND(D10*E10,0)) -> 0
A11: 45876 | F11: =IF(COUNTIF(C11,"*ENEOS*")=1,ROUNDDOWN(D11*E11,0),ROUND(D11*E11,0)) -> 0
A12: 45877 | F12: =IF(COUNTIF(C12,"*ENEOS*")=1,ROUNDDOWN(D12*E12,0),ROUND(D12*E12,0)) -> 0
A13: 45878 | F13: =IF(COUNTIF(C13,"*ENEOS*")=1,ROUNDDOWN(D13*E13,0),ROUND(D13*E13,0)) -> 0
A14: 45879 | F14: =IF(COUNTIF(C14,"*ENEOS*")=1,ROUNDDOWN(D14*E14,0),ROUND(D14*E14,0)) -> 0
A15: 45880 | F15: =IF(COUNTIF(C15,"*ENEOS*")=1,ROUNDDOWN(D15*E15,0),ROUND(D15*E15,0)) -> 0
A16: 45881 | F16: =IF(COUNTIF(C16,"*ENEOS*")=1,ROUNDDOWN(D16*E16,0),ROUND(D16*E16,0)) -> 0
... A35: 45900 | F35: =IF(COUNTIF(C35,"*ENEOS*")=1,ROUNDDOWN(D35*E35,0),ROUND(D35*E35,0)) -> 0
D37: 8月合計 | E37: 充填量 | F37: 水素燃料代
E38: =SUM(E5:E35) -> 0 | F38: =SUM(F5:F35) -> 0
G41: ENEOS太宰府
G42: ENEOS古賀
G43: ENEOS空港
G44: 福岡市
G45: 宮田
G46: 久留米

Sheet R8年9月
A2: 令和8年9月
A3: 充填日 | B3: 充填時間 | C3: ST名 | D3: 水素価格/kg(税込)(a) | E3: 充填量(b) | F3: 水素燃料代(a×b)
A4: 記入例 | B4: 0.64583333 | C4: ●●水素ステーション | D4: ●●●●円 | E4: 5.5 | F4: ●●●●円
A5: 45901 | F5: =IF(COUNTIF(C5,"*ENEOS*")=1,ROUNDDOWN(D5*E5,0),ROUND(D5*E5,0)) -> 0
A6: 45902 | F6: =IF(COUNTIF(C6,"*ENEOS*")=1,ROUNDDOWN(D6*E6,0),ROUND(D6*E6,0)) -> 0
A7: 45903 | F7: =IF(COUNTIF(C7,"*ENEOS*")=1,ROUNDDOWN(D7*E7,0),ROUND(D7*E7,0)) -> 0
A8: 45904 | F8: =IF(COUNTIF(C8,"*ENEOS*")=1,ROUNDDOWN(D8*E8,0),ROUND(D8*E8,0)) -> 0
A9: 45905 | F9: =IF(COUNTIF(C9,"*ENEOS*")=1,ROUNDDOWN(D9*E9,0),ROUND(D9*E9,0)) -> 0
A10: 45906 | F10: =IF(COUNTIF(C10,"*ENEOS*")=1,ROUNDDOWN(D10*E10,0),ROUND(D10*E10,0)) -> 0
A11: 45907 | F11: =IF(COUNTIF(C11,"*ENEOS*")=1,ROUNDDOWN(D11*E11,0),ROUND(D11*E11,0)) -> 0
A12: 45908 | F12: =IF(COUNTIF(C12,"*ENEOS*")=1,ROUNDDOWN(D12*E12,0),ROUND(D12*E12,0)) -> 0
A13: 45909 | F13: =IF(COUNTIF(C13,"*ENEOS*")=1,ROUNDDOWN(D13*E13,0),ROUND(D13*E13,0)) -> 0
A14: 45910 | F14: =IF(COUNTIF(C14,"*ENEOS*")=1,ROUNDDOWN(D14*E14,0),ROUND(D14*E14,0)) -> 0
A15: 45911 | F15: =IF(COUNTIF(C15,"*ENEOS*")=1,ROUNDDOWN(D15*E15,0),ROUND(D15*E15,0)) -> 0
A16: 45912 | F16: =IF(COUNTIF(C16,"*ENEOS*")=1,ROUNDDOWN(D16*E16,0),ROUND(D16*E16,0)) -> 0
... A34: 45930 | F34: =IF(COUNTIF(C34,"*ENEOS*")=1,ROUNDDOWN(D34*E34,0),ROUND(D34*E34,0)) -> 0
D36: ９月合計 | E36: 充填量 | F36: 水素燃料代
E37: =SUM(E5:E34) -> 0 | F37: =SUM(F5:F34) -> 0
G40: ENEOS太宰府
G41: ENEOS古賀
G42: ENEOS空港
G43: 福岡市
G44: 宮田
G45: 久留米

Sheet R8年10月
A2: 令和8年10月
A3: 充填日 | B3: 充填時間 | C3: ST名 | D3: 水素価格/kg(税込)(a) | E3: 充填量(b) | F3: 水素燃料代(a×b)
A4: 記入例 | B4: 0.64583333 | C4: ●●水素ステーション | D4: ●●●●円 | E4: 5.5 | F4: ●●●●円
A5: 45931 | F5: =IF(COUNTIF(C5,"*ENEOS*")=1,ROUNDDOWN(D5*E5,0),ROUND(D5*E5,0)) -> 0
A6: 45932 | F6: =IF(COUNTIF(C6,"*ENEOS*")=1,ROUNDDOWN(D6*E6,0),ROUND(D6*E6,0)) -> 0
A7: 45933 | F7: =IF(COUNTIF(C7,"*ENEOS*")=1,ROUNDDOWN(D7*E7,0),ROUND(D7*E7,0)) -> 0
A8: 45934 | F8: =IF(COUNTIF(C8,"*ENEOS*")=1,ROUNDDOWN(D8*E8,0),ROUND(D8*E8,0)) -> 0
A9: 45935 | F9: =IF(COUNTIF(C9,"*ENEOS*")=1,ROUNDDOWN(D9*E9,0),ROUND(D9*E9,0)) -> 0
A10: 45936 | F10: =IF(COUNTIF(C10,"*ENEOS*")=1,ROUNDDOWN(D10*E10,0),ROUND(D10*E10,0)) -> 0
A11: 45937 | F11: =IF(COUNTIF(C11,"*ENEOS*")=1,ROUNDDOWN(D11*E11,0),ROUND(D11*E11,0)) -> 0
A12: 45938 | F12: =IF(COUNTIF(C12,"*ENEOS*")=1,ROUNDDOWN(D12*E12,0),ROUND(D12*E12,0)) -> 0
A13: 45939 | F13: =IF(COUNTIF(C13,"*ENEOS*")=1,ROUNDDOWN(D13*E13,0),ROUND(D13*E13,0)) -> 0
A14: 45940 | F14: =IF(COUNTIF(C14,"*ENEOS*")=1,ROUNDDOWN(D14*E14,0),ROUND(D14*E14,0)) -> 0
A15: 45941 | F15: =IF(COUNTIF(C15,"*ENEOS*")=1,ROUNDDOWN(D15*E15,0),ROUND(D15*E15,0)) -> 0
A16: 45942 | F16: =IF(COUNTIF(C16,"*ENEOS*")=1,ROUNDDOWN(D16*E16,0),ROUND(D16*E16,0)) -> 0
... A35: 45961 | F35: =IF(COUNTIF(C35,"*ENEOS*")=1,ROUNDDOWN(D35*E35,0),ROUND(D35*E35,0)) -> 0
D37: 10月合計 | E37: 充填量 | F37: 水素燃料代
E38: =SUM(E5:E35) -> 0 | F38: =SUM(F5:F35) -> 0
G41: ENEOS太宰府
G42: ENEOS古賀
G43: ENEOS空港
G44: 福岡市
G45: 宮田
G46: 久留米

Sheet R8年11月
A2: 令和8年11月
A3: 充填日 | B3: 充填時間 | C3: ST名 | D3: 水素価格/kg(税込)(a) | E3: 充填量(b) | F3: 水素燃料代(a×b)
A4: 記入例 | B4: 0.64583333 | C4: ●●水素ステーション | D4: ●●●●円 | E4: 5.5 | F4: ●●●●円
A5: 45962 | F5: =IF(COUNTIF(C5,"*ENEOS*")=1,ROUNDDOWN(D5*E5,0),ROUND(D5*E5,0)) -> 0
A6: 45963 | F6: =IF(COUNTIF(C6,"*ENEOS*")=1,ROUNDDOWN(D6*E6,0),ROUND(D6*E6,0)) -> 0
A7: 45964 | F7: =IF(COUNTIF(C7,"*ENEOS*")=1,ROUNDDOWN(D7*E7,0),ROUND(D7*E7,0)) -> 0
A8: 45965 | F8: =IF(COUNTIF(C8,"*ENEOS*")=1,ROUNDDOWN(D8*E8,0),ROUND(D8*E8,0)) -> 0
A9: 45966 | F9: =IF(COUNTIF(C9,"*ENEOS*")=1,ROUNDDOWN(D9*E9,0),ROUND(D9*E9,0)) -> 0
A10: 45967 | F10: =IF(COUNTIF(C10,"*ENEOS*")=1,ROUNDDOWN(D10*E10,0),ROUND(D10*E10,0)) -> 0
A11: 45968 | F11: =IF(COUNTIF(C11,"*ENEOS*")=1,ROUNDDOWN(D11*E11,0),ROUND(D11*E11,0)) -> 0
A12: 45969 | F12: =IF(COUNTIF(C12,"*ENEOS*")=1,ROUNDDOWN(D12*E12,0),ROUND(D12*E12,0)) -> 0
A13: 45970 | F13: =IF(COUNTIF(C13,"*ENEOS*")=1,ROUNDDOWN(D13*E13,0),ROUND(D13*E13,0)) -> 0
A14: 45971 | F14: =IF(COUNTIF(C14,"*ENEOS*")=1,ROUNDDOWN(D14*E14,0),ROUND(D14*E14,0)) -> 0
A15: 45972 | F15: =IF(COUNTIF(C15,"*ENEOS*")=1,ROUNDDOWN(D15*E15,0),ROUND(D15*E15,0)) -> 0
A16: 45973 | F16: =IF(COUNTIF(C16,"*ENEOS*")=1,ROUNDDOWN(D16*E16,0),ROUND(D16*E16,0)) -> 0
... A34: 45991 | F34: =IF(COUNTIF(C34,"*ENEOS*")=1,ROUNDDOWN(D34*E34,0),ROUND(D34*E34,0)) -> 0
D36: 11月合計 | E36: 充填量 | F36: 水素燃料代
E37: =SUM(E5:E34) -> 0 | F37: =SUM(F5:F34) -> 0
G40: ENEOS太宰府
G41: ENEOS古賀
G42: ENEOS空港
G43: 福岡市
G44: 宮田
G45: 久留米

Sheet R8年12月
A2: 令和8年12月
A3: 充填日 | B3: 充填時間 | C3: ST名 | D3: 水素価格/kg(税込)(a) | E3: 充填量(b) | F3: 水素燃料代(a×b)
A4: 記入例 | B4: 0.64583333 | C4: ●●水素ステーション | D4: ●●●●円 | E4: 5.5 | F4: ●●●●円
A5: 45992 | F5: =IF(COUNTIF(C5,"*ENEOS*")=1,ROUNDDOWN(D5*E5,0),ROUND(D5*E5,0)) -> 0
A6: 45993 | F6: =IF(COUNTIF(C6,"*ENEOS*")=1,ROUNDDOWN(D6*E6,0),ROUND(D6*E6,0)) -> 0
A7: 45994 | F7: =IF(COUNTIF(C7,"*ENEOS*")=1,ROUNDDOWN(D7*E7,0),ROUND(D7*E7,0)) -> 0
A8: 45995 | F8: =IF(COUNTIF(C8,"*ENEOS*")=1,ROUNDDOWN(D8*E8,0),ROUND(D8*E8,0)) -> 0
A9: 45996 | F9: =IF(COUNTIF(C9,"*ENEOS*")=1,ROUNDDOWN(D9*E9,0),ROUND(D9*E9,0)) -> 0
A10: 45997 | F10: =IF(COUNTIF(C10,"*ENEOS*")=1,ROUNDDOWN(D10*E10,0),ROUND(D10*E10,0)) -> 0
A11: 45998 | F11: =IF(COUNTIF(C11,"*ENEOS*")=1,ROUNDDOWN(D11*E11,0),ROUND(D11*E11,0)) -> 0
A12: 45999 | F12: =IF(COUNTIF(C12,"*ENEOS*")=1,ROUNDDOWN(D12*E12,0),ROUND(D12*E12,0)) -> 0
A13: 46000 | F13: =IF(COUNTIF(C13,"*ENEOS*")=1,ROUNDDOWN(D13*E13,0),ROUND(D13*E13,0)) -> 0
A14: 46001 | F14: =IF(COUNTIF(C14,"*ENEOS*")=1,ROUNDDOWN(D14*E14,0),ROUND(D14*E14,0)) -> 0
A15: 46002 | F15: =IF(COUNTIF(C15,"*ENEOS*")=1,ROUNDDOWN(D15*E15,0),ROUND(D15*E15,0)) -> 0
A16: 46003 | F16: =IF(COUNTIF(C16,"*ENEOS*")=1,ROUNDDOWN(D16*E16,0),ROUND(D16*E16,0)) -> 0
... A35: 46022 | F35: =IF(COUNTIF(C35,"*ENEOS*")=1,ROUNDDOWN(D35*E35,0),ROUND(D35*E35,0)) -> 0
D37: 12月合計 | E37: 充填量 | F37: 水素燃料代
E38: =SUM(E5:E35) -> 0 | F38: =SUM(F5:F35) -> 0
G41: ENEOS太宰府
G42: ENEOS古賀
G43: ENEOS空港
G44: 福岡市
G45: 宮田
G46: 久留米

Sheet R9年1月
A2: 令和9年1月
A3: 充填日 | B3: 充填時間 | C3: ST名 | D3: 水素価格/kg(税込)(a) | E3: 充填量(b) | F3: 水素燃料代(a×b)
A4: 記入例 | B4: 0.64583333 | C4: ●●水素ステーション | D4: ●●●●円 | E4: 5.5 | F4: ●●●●円
A5: 46023 | F5: =IF(COUNTIF(C5,"*ENEOS*")=1,ROUNDDOWN(D5*E5,0),ROUND(D5*E5,0)) -> 0
A6: 46024 | F6: =IF(COUNTIF(C6,"*ENEOS*")=1,ROUNDDOWN(D6*E6,0),ROUND(D6*E6,0)) -> 0
A7: 46025 | F7: =IF(COUNTIF(C7,"*ENEOS*")=1,ROUNDDOWN(D7*E7,0),ROUND(D7*E7,0)) -> 0
A8: 46026 | F8: =IF(COUNTIF(C8,"*ENEOS*")=1,ROUNDDOWN(D8*E8,0),ROUND(D8*E8,0)) -> 0
A9: 46027 | F9: =IF(COUNTIF(C9,"*ENEOS*")=1,ROUNDDOWN(D9*E9,0),ROUND(D9*E9,0)) -> 0
A10: 46028 | F10: =IF(COUNTIF(C10,"*ENEOS*")=1,ROUNDDOWN(D10*E10,0),ROUND(D10*E10,0)) -> 0
A11: 46029 | F11: =IF(COUNTIF(C11,"*ENEOS*")=1,ROUNDDOWN(D11*E11,0),ROUND(D11*E11,0)) -> 0
A12: 46030 | F12: =IF(COUNTIF(C12,"*ENEOS*")=1,ROUNDDOWN(D12*E12,0),ROUND(D12*E12,0)) -> 0
A13: 46031 | F13: =IF(COUNTIF(C13,"*ENEOS*")=1,ROUNDDOWN(D13*E13,0),ROUND(D13*E13,0)) -> 0
A14: 46032 | F14: =IF(COUNTIF(C14,"*ENEOS*")=1,ROUNDDOWN(D14*E14,0),ROUND(D14*E14,0)) -> 0
A15: 46033 | F15: =IF(COUNTIF(C15,"*ENEOS*")=1,ROUNDDOWN(D15*E15,0),ROUND(D15*E15,0)) -> 0
A16: 46034 | F16: =IF(COUNTIF(C16,"*ENEOS*")=1,ROUNDDOWN(D16*E16,0),ROUND(D16*E16,0)) -> 0
... A35: 46053 | F35: =IF(COUNTIF(C35,"*ENEOS*")=1,ROUNDDOWN(D35*E35,0),ROUND(D35*E35,0)) -> 0
D37: 1月合計 | E37: 充填量 | F37: 水素燃料代
E38: =SUM(E5:E35) -> 0 | F38: =SUM(F5:F35) -> 0
G41: ENEOS太宰府
G42: ENEOS古賀
G43: ENEOS空港
G44: 福岡市
G45: 宮田
G46: 久留米

Sheet R9年2月
A2: 令和9年2月
A3: 充填日 | B3: 充填時間 | C3: ST名 | D3: 水素価格/kg(税込)(a) | E3: 充填量(b) | F3: 水素燃料代(a×b)
A4: 記入例 | B4: 0.64583333 | C4: ●●水素ステーション | D4: ●●●●円 | E4: 5.5 | F4: ●●●●円
A5: 46054 | F5: =IF(COUNTIF(C5,"*ENEOS*")=1,ROUNDDOWN(D5*E5,0),ROUND(D5*E5,0)) -> 0
A6: 46055 | F6: =IF(COUNTIF(C6,"*ENEOS*")=1,ROUNDDOWN(D6*E6,0),ROUND(D6*E6,0)) -> 0
A7: 46056 | F7: =IF(COUNTIF(C7,"*ENEOS*")=1,ROUNDDOWN(D7*E7,0),ROUND(D7*E7,0)) -> 0
A8: 46057 | F8: =IF(COUNTIF(C8,"*ENEOS*")=1,ROUNDDOWN(D8*E8,0),ROUND(D8*E8,0)) -> 0
A9: 46058 | F9: =IF(COUNTIF(C9,"*ENEOS*")=1,ROUNDDOWN(D9*E9,0),ROUND(D9*E9,0)) -> 0
A10: 46059 | F10: =IF(COUNTIF(C10,"*ENEOS*")=1,ROUNDDOWN(D10*E10,0),ROUND(D10*E10,0)) -> 0
A11: 46060 | F11: =IF(COUNTIF(C11,"*ENEOS*")=1,ROUNDDOWN(D11*E11,0),ROUND(D11*E11,0)) -> 0
A12: 46061 | F12: =IF(COUNTIF(C12,"*ENEOS*")=1,ROUNDDOWN(D12*E12,0),ROUND(D12*E12,0)) -> 0
A13: 46062 | F13: =IF(COUNTIF(C13,"*ENEOS*")=1,ROUNDDOWN(D13*E13,0),ROUND(D13*E13,0)) -> 0
A14: 46063 | F14: =IF(COUNTIF(C14,"*ENEOS*")=1,ROUNDDOWN(D14*E14,0),ROUND(D14*E14,0)) -> 0
A15: 46064 | F15: =IF(COUNTIF(C15,"*ENEOS*")=1,ROUNDDOWN(D15*E15,0),ROUND(D15*E15,0)) -> 0
A16: 46065 | F16: =IF(COUNTIF(C16,"*ENEOS*")=1,ROUNDDOWN(D16*E16,0),ROUND(D16*E16,0)) -> 0
... A32: 46081 | F32: =IF(COUNTIF(C32,"*ENEOS*")=1,ROUNDDOWN(D32*E32,0),ROUND(D32*E32,0)) -> 0
D34: 2月合計 | E34: 充填量 | F34: 水素燃料代
E35: =SUM(E5:E32) -> 0 | F35: =SUM(F5:F32) -> 0
G38: ENEOS太宰府
G39: ENEOS古賀
G40: ENEOS空港
G41: 福岡市
G42: 宮田
G43: 久留米

Sheet R9年3月
A2: 令和9年3月
A3: 充填日 | B3: 充填時間 | C3: ST名 | D3: 水素価格/kg(税込)(a) | E3: 充填量(b) | F3: 水素燃料代(a×b)
A4: 記入例 | B4: 0.64583333 | C4: ●●水素ステーション | D4: ●●●●円 | E4: 5.5 | F4: ●●●●円
A5: 46082 | F5: =IF(COUNTIF(C5,"*ENEOS*")=1,ROUNDDOWN(D5*E5,0),ROUND(D5*E5,0)) -> 0
A6: 46083 | F6: =IF(COUNTIF(C6,"*ENEOS*")=1,ROUNDDOWN(D6*E6,0),ROUND(D6*E6,0)) -> 0
A7: 46084 | F7: =IF(COUNTIF(C7,"*ENEOS*")=1,ROUNDDOWN(D7*E7,0),ROUND(D7*E7,0)) -> 0
A8: 46085 | F8: =IF(COUNTIF(C8,"*ENEOS*")=1,ROUNDDOWN(D8*E8,0),ROUND(D8*E8,0)) -> 0
A9: 46086 | F9: =IF(COUNTIF(C9,"*ENEOS*")=1,ROUNDDOWN(D9*E9,0),ROUND(D9*E9,0)) -> 0
A10: 46087 | F10: =IF(COUNTIF(C10,"*ENEOS*")=1,ROUNDDOWN(D10*E10,0),ROUND(D10*E10,0)) -> 0
A11: 46088 | F11: =IF(COUNTIF(C11,"*ENEOS*")=1,ROUNDDOWN(D11*E11,0),ROUND(D11*E11,0)) -> 0
A12: 46089 | F12: =IF(COUNTIF(C12,"*ENEOS*")=1,ROUNDDOWN(D12*E12,0),ROUND(D12*E12,0)) -> 0
A13: 46090 | F13: =IF(COUNTIF(C13,"*ENEOS*")=1,ROUNDDOWN(D13*E13,0),ROUND(D13*E13,0)) -> 0
A14: 46091 | F14: =IF(COUNTIF(C14,"*ENEOS*")=1,ROUNDDOWN(D14*E14,0),ROUND(D14*E14,0)) -> 0
A15: 46092 | F15: =IF(COUNTIF(C15,"*ENEOS*")=1,ROUNDDOWN(D15*E15,0),ROUND(D15*E15,0)) -> 0
A16: 46093 | F16: =IF(COUNTIF(C16,"*ENEOS*")=1,ROUNDDOWN(D16*E16,0),ROUND(D16*E16,0)) -> 0
... A35: 46112 | F35: =IF(COUNTIF(C35,"*ENEOS*")=1,ROUNDDOWN(D35*E35,0),ROUND(D35*E35,0)) -> 0
D37: 3月合計 | E37: 充填量 | F37: 水素燃料代
E38: =SUM(E5:E35) -> 0 | F38: =SUM(F5:F35) -> 0
G41: ENEOS太宰府
G42: ENEOS古賀
G43: ENEOS空港
G44: 福岡市
G45: 宮田
G46: 久留米
